BEGIN:VCALENDAR
VERSION:2.0
PRODID:-//Reeds Sweet Wine - ECPv6.15.20//NONSGML v1.0//EN
CALSCALE:GREGORIAN
METHOD:PUBLISH
X-ORIGINAL-URL:https://reedssweetwine.com
X-WR-CALDESC:Events for Reeds Sweet Wine
REFRESH-INTERVAL;VALUE=DURATION:PT1H
X-Robots-Tag:noindex
X-PUBLISHED-TTL:PT1H
BEGIN:VTIMEZONE
TZID:America/Los_Angeles
BEGIN:DAYLIGHT
TZOFFSETFROM:-0800
TZOFFSETTO:-0700
TZNAME:PDT
DTSTART:20250309T100000
END:DAYLIGHT
BEGIN:STANDARD
TZOFFSETFROM:-0700
TZOFFSETTO:-0800
TZNAME:PST
DTSTART:20251102T090000
END:STANDARD
BEGIN:DAYLIGHT
TZOFFSETFROM:-0800
TZOFFSETTO:-0700
TZNAME:PDT
DTSTART:20260308T100000
END:DAYLIGHT
BEGIN:STANDARD
TZOFFSETFROM:-0700
TZOFFSETTO:-0800
TZNAME:PST
DTSTART:20261101T090000
END:STANDARD
BEGIN:DAYLIGHT
TZOFFSETFROM:-0800
TZOFFSETTO:-0700
TZNAME:PDT
DTSTART:20270314T100000
END:DAYLIGHT
BEGIN:STANDARD
TZOFFSETFROM:-0700
TZOFFSETTO:-0800
TZNAME:PST
DTSTART:20271107T090000
END:STANDARD
BEGIN:DAYLIGHT
TZOFFSETFROM:-0800
TZOFFSETTO:-0700
TZNAME:PDT
DTSTART:20280312T100000
END:DAYLIGHT
BEGIN:STANDARD
TZOFFSETFROM:-0700
TZOFFSETTO:-0800
TZNAME:PST
DTSTART:20281105T090000
END:STANDARD
END:VTIMEZONE
BEGIN:VEVENT
DTSTART;TZID=America/Los_Angeles:20260105T120000
DTEND;TZID=America/Los_Angeles:20270222T170000
DTSTAMP:20260423T132608
CREATED:20230304T163246Z
LAST-MODIFIED:20260327T210439Z
UID:2114-1767614400-1803315600@reedssweetwine.com
SUMMARY:Visit Our Tasting Room
DESCRIPTION:Visit Our Tasting Room!\nWe’re open on Sunday’s from 12am 5pm. No need to book an appointment online for a Sunday\, you can just walk in. \nPick your own samples! Sample Packs are $20 for five of our two ounce Sample bottles.
URL:https://reedssweetwine.com/event/2114/
LOCATION:Reeds Sweet Wine\, 3516 192nd St E\, Tacoma\, WA\, 98446\, United States
CATEGORIES:Wine Tasting
ATTACH;FMTTYPE=image/jpeg:https://reedssweetwine.com/wp-content/uploads/2023/03/IMG_1812.jpg
END:VEVENT
BEGIN:VEVENT
DTSTART;TZID=America/Los_Angeles:20260404T110000
DTEND;TZID=America/Los_Angeles:20260404T130000
DTSTAMP:20260423T132608
CREATED:20250408T042640Z
LAST-MODIFIED:20260311T195722Z
UID:4095-1775300400-1775307600@reedssweetwine.com
SUMMARY:Adult Easter Hunt
DESCRIPTION:Our Annual Adult Wine Hunt is here!\nThis is a ticketed event with a 21+ age requirement. Tickets can be purchased only at Reedssweetwine.com or in our Tasting Room. \nhttps://reedssweetwine.com/product-category/event-tickets/ \nThe hunt begins promptly at 1130\, so please check in by 11am.
URL:https://reedssweetwine.com/event/adult-easter-hunt/
LOCATION:WA
ATTACH;FMTTYPE=image/jpeg:https://reedssweetwine.com/wp-content/uploads/2024/03/img_8630-1.jpeg
END:VEVENT
BEGIN:VEVENT
DTSTART;TZID=America/Los_Angeles:20260502T100000
DTEND;TZID=America/Los_Angeles:20260926T150000
DTSTAMP:20260423T132608
CREATED:20230304T161434Z
LAST-MODIFIED:20260311T183530Z
UID:2105-1777716000-1790434800@reedssweetwine.com
SUMMARY:Yelm Farmers Market
DESCRIPTION:Opening Day of the Yelm Farmers Market! Located around the Community Center\, 301 2nd St SE. Yelm\, Wa 98597 \nMarket runs from 10am to 3pm May 2nd 2026 to Sep 26th 2026 on Saturdays!
URL:https://reedssweetwine.com/event/yelm-farmers-market/
LOCATION:WA
CATEGORIES:Farmers Market
ATTACH;FMTTYPE=image/jpeg:https://reedssweetwine.com/wp-content/uploads/2021/10/3238C458-7F5A-478B-AB56-C6B69A5AA04E.jpeg
END:VEVENT
BEGIN:VEVENT
DTSTART;TZID=America/Los_Angeles:20260510T110000
DTEND;TZID=America/Los_Angeles:20260510T130000
DTSTAMP:20260423T132608
CREATED:20260410T174416Z
LAST-MODIFIED:20260410T174646Z
UID:4718-1778410800-1778418000@reedssweetwine.com
SUMMARY:Mothers Day Wine & Chocolate Scavenger Hunt
DESCRIPTION:Celebrate Mother’s Day in the orchard with a one-of-a-kind experience designed to slow things down and make the day special.\nWander through the trees on a wine scavenger hunt\, enjoy handcrafted sweet wines\, and indulge in our featured Dubai chocolate strawberry cups.\nCapture the moment with beautiful photo spots throughout the orchard and relax in a peaceful countryside setting just outside Tacoma!\n****You’ll be required to select a delivery or pickup option for your ticket when purchasing. Please select the FREE pick up option for the next available slot open.\nYou do not need to pick the ticket up!\nWe will write your name on your ticket and you may get them the day of the event at check in!!
URL:https://reedssweetwine.com/event/mothers-day-wine-chocolate-scavenger-hunt/
LOCATION:Reeds Sweet Wine\, 3516 192nd St E\, Tacoma\, WA\, 98446\, United States
CATEGORIES:Wine Scavenger Hunts
ATTACH;FMTTYPE=image/png:https://reedssweetwine.com/wp-content/uploads/2026/04/33c9305b-ba3b-4d96-9264-8c1b583005b6.png
END:VEVENT
BEGIN:VEVENT
DTSTART;TZID=America/Los_Angeles:20260602T140000
DTEND;TZID=America/Los_Angeles:20260901T190000
DTSTAMP:20260423T132608
CREATED:20230304T162309Z
LAST-MODIFIED:20260311T182920Z
UID:2110-1780408800-1788289200@reedssweetwine.com
SUMMARY:Lakewood Farmers Market
DESCRIPTION:Opening Day of the Lakewood Farmers Market! Located in the Fort Steilacoom Park\, 8714 87th Ave SW. Lakewood\, Wa 98498. \nMarket runs from 2pm to 7pm on Tuesday’s starting June 2nd 2026 to Sep 1st 2026 \n 
URL:https://reedssweetwine.com/event/lakewood-farmers-market/
LOCATION:WA
CATEGORIES:Farmers Market
ATTACH;FMTTYPE=image/jpeg:https://reedssweetwine.com/wp-content/uploads/2023/03/FM-Photo-4.jpg
END:VEVENT
BEGIN:VEVENT
DTSTART;TZID=America/Los_Angeles:20260605T183000
DTEND;TZID=America/Los_Angeles:20260925T210000
DTSTAMP:20260423T132608
CREATED:20260311T184706Z
LAST-MODIFIED:20260311T185645Z
UID:4487-1780684200-1790370000@reedssweetwine.com
SUMMARY:Upcoming Campfire & Cork Friday Nights
DESCRIPTION:Join us for relaxed Friday evenings at Reed’s Sweet Wine. Gather around the campfires with a glass of wine\, enjoy the peaceful orchard atmosphere\, and watch the sun set over the property. \nEvery Friday\nJune – September\n6:30 PM – Sunset \nExperience Includes: \n• Sample Pack Flights • Wine by the glass • Campfire gathering areas • Outdoor seating • Relaxed orchard atmosphere • Guest rooms available • Occasional acoustic music
URL:https://reedssweetwine.com/event/upcoming-campfire-cork-friday-nights/
LOCATION:WA
END:VEVENT
BEGIN:VEVENT
DTSTART;TZID=America/Los_Angeles:20260607T100000
DTEND;TZID=America/Los_Angeles:20260920T150000
DTSTAMP:20260423T132608
CREATED:20230304T162001Z
LAST-MODIFIED:20260311T183406Z
UID:2108-1780826400-1789916400@reedssweetwine.com
SUMMARY:Auburn Farmers Market
DESCRIPTION:Opening Day of the Auburn Farmers Market! Located in the Les Gove Park. 1140 Auburn Way S. Auburn\, Wa 98002 \nMarket runs from 10am to 3pm on Sundays from June 7th 2026 to Sep 20th 2026
URL:https://reedssweetwine.com/event/auburn-farmers-market/
LOCATION:WA
CATEGORIES:Farmers Market
ATTACH;FMTTYPE=image/jpeg:https://reedssweetwine.com/wp-content/uploads/2023/03/IMG_2746.jpg
END:VEVENT
BEGIN:VEVENT
DTSTART;TZID=America/Los_Angeles:20261024T170000
DTEND;TZID=America/Los_Angeles:20261024T193000
DTSTAMP:20260423T132608
CREATED:20250924T154136Z
LAST-MODIFIED:20260410T174821Z
UID:4270-1792861200-1792870200@reedssweetwine.com
SUMMARY:Halloween Wine Scavenger Hunt
DESCRIPTION:21+ Age Requirement\nFor our adult wine scavenger hunt events.\nTickets will be available only on our website at Reedssweetwine.com or in our Tasting Room. https://reedssweetwine.com/product-category/event-tickets/\nSaturday 10/24/26 with a 5pm check in. Wine hunt starts promptly at 6pm unless everyone checks in early!
URL:https://reedssweetwine.com/event/halloween-wine-scavenger-hunt/
LOCATION:Reeds Sweet Wine\, 3516 192nd St E\, Tacoma\, WA\, 98446\, United States
CATEGORIES:Wine Scavenger Hunts
ATTACH;FMTTYPE=image/jpeg:https://reedssweetwine.com/wp-content/uploads/2025/05/img_8629.jpeg
END:VEVENT
END:VCALENDAR