BEGIN:VCALENDAR
VERSION:2.0
PRODID:-//Reeds Sweet Wine - ECPv6.15.20//NONSGML v1.0//EN
CALSCALE:GREGORIAN
METHOD:PUBLISH
X-ORIGINAL-URL:https://reedssweetwine.com
X-WR-CALDESC:Events for Reeds Sweet Wine
REFRESH-INTERVAL;VALUE=DURATION:PT1H
X-Robots-Tag:noindex
X-PUBLISHED-TTL:PT1H
BEGIN:VTIMEZONE
TZID:America/Los_Angeles
BEGIN:DAYLIGHT
TZOFFSETFROM:-0800
TZOFFSETTO:-0700
TZNAME:PDT
DTSTART:20250309T100000
END:DAYLIGHT
BEGIN:STANDARD
TZOFFSETFROM:-0700
TZOFFSETTO:-0800
TZNAME:PST
DTSTART:20251102T090000
END:STANDARD
BEGIN:DAYLIGHT
TZOFFSETFROM:-0800
TZOFFSETTO:-0700
TZNAME:PDT
DTSTART:20260308T100000
END:DAYLIGHT
BEGIN:STANDARD
TZOFFSETFROM:-0700
TZOFFSETTO:-0800
TZNAME:PST
DTSTART:20261101T090000
END:STANDARD
BEGIN:DAYLIGHT
TZOFFSETFROM:-0800
TZOFFSETTO:-0700
TZNAME:PDT
DTSTART:20270314T100000
END:DAYLIGHT
BEGIN:STANDARD
TZOFFSETFROM:-0700
TZOFFSETTO:-0800
TZNAME:PST
DTSTART:20271107T090000
END:STANDARD
BEGIN:DAYLIGHT
TZOFFSETFROM:-0800
TZOFFSETTO:-0700
TZNAME:PDT
DTSTART:20280312T100000
END:DAYLIGHT
BEGIN:STANDARD
TZOFFSETFROM:-0700
TZOFFSETTO:-0800
TZNAME:PST
DTSTART:20281105T090000
END:STANDARD
END:VTIMEZONE
BEGIN:VEVENT
DTSTART;TZID=America/Los_Angeles:20260105T120000
DTEND;TZID=America/Los_Angeles:20270222T170000
DTSTAMP:20260423T163555
CREATED:20230304T163246Z
LAST-MODIFIED:20260327T210439Z
UID:2114-1767614400-1803315600@reedssweetwine.com
SUMMARY:Visit Our Tasting Room
DESCRIPTION:Visit Our Tasting Room!\nWe’re open on Sunday’s from 12am 5pm. No need to book an appointment online for a Sunday\, you can just walk in. \nPick your own samples! Sample Packs are $20 for five of our two ounce Sample bottles.
URL:https://reedssweetwine.com/event/2114/
LOCATION:Reeds Sweet Wine\, 3516 192nd St E\, Tacoma\, WA\, 98446\, United States
CATEGORIES:Wine Tasting
ATTACH;FMTTYPE=image/jpeg:https://reedssweetwine.com/wp-content/uploads/2023/03/IMG_1812.jpg
END:VEVENT
END:VCALENDAR